BEGIN:VCALENDAR
VERSION:2.0
PRODID:-//Association Rémora - ECPv6.15.18//NONSGML v1.0//EN
CALSCALE:GREGORIAN
METHOD:PUBLISH
X-ORIGINAL-URL:https://associationremora.fr
X-WR-CALDESC:Évènements pour Association Rémora
REFRESH-INTERVAL;VALUE=DURATION:PT1H
X-Robots-Tag:noindex
X-PUBLISHED-TTL:PT1H
BEGIN:VTIMEZONE
TZID:Europe/Paris
BEGIN:DAYLIGHT
TZOFFSETFROM:+0100
TZOFFSETTO:+0200
TZNAME:CEST
DTSTART:20250330T010000
END:DAYLIGHT
BEGIN:STANDARD
TZOFFSETFROM:+0200
TZOFFSETTO:+0100
TZNAME:CET
DTSTART:20251026T010000
END:STANDARD
BEGIN:DAYLIGHT
TZOFFSETFROM:+0100
TZOFFSETTO:+0200
TZNAME:CEST
DTSTART:20260329T010000
END:DAYLIGHT
BEGIN:STANDARD
TZOFFSETFROM:+0200
TZOFFSETTO:+0100
TZNAME:CET
DTSTART:20261025T010000
END:STANDARD
BEGIN:DAYLIGHT
TZOFFSETFROM:+0100
TZOFFSETTO:+0200
TZNAME:CEST
DTSTART:20270328T010000
END:DAYLIGHT
BEGIN:STANDARD
TZOFFSETFROM:+0200
TZOFFSETTO:+0100
TZNAME:CET
DTSTART:20271031T010000
END:STANDARD
END:VTIMEZONE
BEGIN:VEVENT
DTSTART;TZID=Europe/Paris:20260301T090000
DTEND;TZID=Europe/Paris:20260301T130000
DTSTAMP:20260423T223409
CREATED:20260209T160035Z
LAST-MODIFIED:20260209T160035Z
UID:1585-1772355600-1772370000@associationremora.fr
SUMMARY:Collecte aquatique et pédestre
DESCRIPTION:Participation à une collecte sur l’eau dans Strasbourg
URL:https://associationremora.fr/index.php/event/collecte-aquatique-et-pedestre/
LOCATION:strasbourg\, quai Jeanne Helbling\, Strasbourg
CATEGORIES:Collecte ponctuelle
END:VEVENT
END:VCALENDAR