BEGIN:VCALENDAR
VERSION:2.0
PRODID:-//Association Rémora - ECPv6.15.18//NONSGML v1.0//EN
CALSCALE:GREGORIAN
METHOD:PUBLISH
X-ORIGINAL-URL:https://associationremora.fr
X-WR-CALDESC:Évènements pour Association Rémora
REFRESH-INTERVAL;VALUE=DURATION:PT1H
X-Robots-Tag:noindex
X-PUBLISHED-TTL:PT1H
BEGIN:VTIMEZONE
TZID:Europe/Paris
BEGIN:DAYLIGHT
TZOFFSETFROM:+0100
TZOFFSETTO:+0200
TZNAME:CEST
DTSTART:20230326T010000
END:DAYLIGHT
BEGIN:STANDARD
TZOFFSETFROM:+0200
TZOFFSETTO:+0100
TZNAME:CET
DTSTART:20231029T010000
END:STANDARD
BEGIN:DAYLIGHT
TZOFFSETFROM:+0100
TZOFFSETTO:+0200
TZNAME:CEST
DTSTART:20240331T010000
END:DAYLIGHT
BEGIN:STANDARD
TZOFFSETFROM:+0200
TZOFFSETTO:+0100
TZNAME:CET
DTSTART:20241027T010000
END:STANDARD
BEGIN:DAYLIGHT
TZOFFSETFROM:+0100
TZOFFSETTO:+0200
TZNAME:CEST
DTSTART:20250330T010000
END:DAYLIGHT
BEGIN:STANDARD
TZOFFSETFROM:+0200
TZOFFSETTO:+0100
TZNAME:CET
DTSTART:20251026T010000
END:STANDARD
END:VTIMEZONE
BEGIN:VEVENT
DTSTART;TZID=Europe/Paris:20240414T100000
DTEND;TZID=Europe/Paris:20240414T123000
DTSTAMP:20260425T153806
CREATED:20231215T013449Z
LAST-MODIFIED:20231216T164147Z
UID:569-1713088800-1713097800@associationremora.fr
SUMMARY:Collecte Rémora
DESCRIPTION:
URL:https://associationremora.fr/index.php/event/collecte-canoe-kayak-2/
LOCATION:Ill
CATEGORIES:Collecte régulière
ATTACH;FMTTYPE=image/png:https://associationremora.fr/wp-content/uploads/2023/10/Remora_officiel.png
ORGANIZER;CN="R%C3%A9mora Grand Est":MAILTO:associationremora@gmail.com
END:VEVENT
END:VCALENDAR